BEGIN:VCALENDAR
VERSION:2.0
PRODID:-//203.170.81.33//NONSGML kigkonsult.se iCalcreator 2.24.2//
CALSCALE:GREGORIAN
METHOD:PUBLISH
X-WR-CALNAME:維省華人賭博關懷協會
X-WR-CALDESC:Chinese Gambling Concern Inc.
X-FROM-URL:http://ch.cgci.org.au
X-WR-TIMEZONE:Australia/Melbourne
BEGIN:VTIMEZONE
TZID:Australia/Melbourne
X-LIC-LOCATION:Australia/Melbourne
BEGIN:STANDARD
DTSTART:20210404T030000
TZOFFSETFROM:+1100
TZOFFSETTO:+1000
RDATE:20220403T030000
TZNAME:AEST
END:STANDARD
BEGIN:DAYLIGHT
DTSTART:20201004T020000
TZOFFSETFROM:+1000
TZOFFSETTO:+1100
RDATE:20211003T020000
TZNAME:AEDT
END:DAYLIGHT
END:VTIMEZONE
BEGIN:VEVENT
UID:ai1ec-870@ch.cgci.org.au
DTSTAMP:20210227T125501Z
CATEGORIES:
CONTACT:Paul\; 0409 921 122\; enquiry@cgci.org.au\; http://ch.cgci.org.au/w
 hats-new/20195-/
DESCRIPTION:
DTSTART;TZID=Australia/Melbourne:20190525T140000
DTEND;TZID=Australia/Melbourne:20190525T160000
LOCATION:Whitehorse Room @ Box Hill Town Hall\, 1022 Whitehorse Rd\, Box Hi
 ll
SEQUENCE:0
SUMMARY:抹茶酥/芋头酥烘焙同乐日
URL:http://ch.cgci.org.au/event/%e6%8a%b9%e8%8c%b6%e9%85%a5-%e8%8a%8b%e5%a4
 %b4%e9%85%a5%e7%83%98%e7%84%99%e5%90%8c%e4%b9%90%e6%97%a5/
X-COST-TYPE:free
END:VEVENT
END:VCALENDAR
