BEGIN:VCALENDAR
VERSION:2.0
PRODID:-//203.170.81.33//NONSGML kigkonsult.se iCalcreator 2.24.2//
CALSCALE:GREGORIAN
METHOD:PUBLISH
X-WR-CALNAME:維省華人賭博關懷協會
X-WR-CALDESC:Chinese Gambling Concern Inc.
X-FROM-URL:http://ch.cgci.org.au
X-WR-TIMEZONE:Australia/Melbourne
BEGIN:VTIMEZONE
TZID:Australia/Melbourne
X-LIC-LOCATION:Australia/Melbourne
BEGIN:STANDARD
DTSTART:20210404T030000
TZOFFSETFROM:+1100
TZOFFSETTO:+1000
RDATE:20220403T030000
TZNAME:AEST
END:STANDARD
BEGIN:DAYLIGHT
DTSTART:20201004T020000
TZOFFSETFROM:+1000
TZOFFSETTO:+1100
RDATE:20211003T020000
TZNAME:AEDT
END:DAYLIGHT
END:VTIMEZONE
BEGIN:VEVENT
UID:ai1ec-821@ch.cgci.org.au
DTSTAMP:20210227T120715Z
CATEGORIES:
CONTACT:Paul\; 0409 921 122\; enquiry@cgci.org.au\; http://cgci.org.au/
DESCRIPTION:
DTSTART;TZID=Australia/Melbourne:20180908T020000
DTEND;TZID=Australia/Melbourne:20180908T043000
GEO:-37.819626;+145.126611
LOCATION:Visual Arts Room @ 27 Bank St\, Box Hill VIC 3128\, Australia
SEQUENCE:0
SUMMARY:【2018年9月活动】留学生UNO牌大富翁联谊交友同乐日！
URL:http://ch.cgci.org.au/event/%e3%80%902018%e5%b9%b49%e6%9c%88%e6%b4%bb%e
 5%8a%a8%e3%80%91%e7%95%99%e5%ad%a6%e7%94%9funo%e7%89%8c%e5%a4%a7%e5%af%8c%
 e7%bf%81%e8%81%94%e8%b0%8a%e4%ba%a4%e5%8f%8b%e5%90%8c%e4%b9%90%e6%97%a5%ef
 %bc%81/
X-COST-TYPE:free
END:VEVENT
END:VCALENDAR
