BEGIN:VCALENDAR
VERSION:2.0
PRODID:-//203.170.81.33//NONSGML kigkonsult.se iCalcreator 2.24.2//
CALSCALE:GREGORIAN
METHOD:PUBLISH
X-WR-CALNAME:維省華人賭博關懷協會
X-WR-CALDESC:Chinese Gambling Concern Inc.
X-FROM-URL:http://ch.cgci.org.au
X-WR-TIMEZONE:Australia/Melbourne
BEGIN:VTIMEZONE
TZID:Australia/Melbourne
X-LIC-LOCATION:Australia/Melbourne
BEGIN:STANDARD
DTSTART:20210404T030000
TZOFFSETFROM:+1100
TZOFFSETTO:+1000
RDATE:20220403T030000
TZNAME:AEST
END:STANDARD
BEGIN:DAYLIGHT
DTSTART:20201004T020000
TZOFFSETFROM:+1000
TZOFFSETTO:+1100
RDATE:20211003T020000
TZNAME:AEDT
END:DAYLIGHT
END:VTIMEZONE
BEGIN:VEVENT
UID:ai1ec-785@ch.cgci.org.au
DTSTAMP:20210227T120504Z
CATEGORIES:
CONTACT:Paul\; 0409 921 122\; enquiry@cgci.org.au\; http://cgci.org.au/
DESCRIPTION:
DTSTART;TZID=Australia/Melbourne:20180728T140000
DTEND;TZID=Australia/Melbourne:20180728T170000
GEO:-37.819626;+145.126611
LOCATION:Matsudo Room @ 27 Bank St\, Box Hill VIC 3128\, Australia
SEQUENCE:0
SUMMARY:蛋挞制作同乐日
URL:http://ch.cgci.org.au/event/%e8%9b%8b%e6%8c%9e%e5%88%b6%e4%bd%9c%e5%90%
 8c%e4%b9%90%e6%97%a5/
X-COST-TYPE:free
END:VEVENT
END:VCALENDAR
