BEGIN:VCALENDAR
VERSION:2.0
PRODID:-//203.170.81.33//NONSGML kigkonsult.se iCalcreator 2.24.2//
CALSCALE:GREGORIAN
METHOD:PUBLISH
X-WR-CALNAME:維省華人賭博關懷協會
X-WR-CALDESC:Chinese Gambling Concern Inc.
X-FROM-URL:http://ch.cgci.org.au
X-WR-TIMEZONE:Australia/Melbourne
BEGIN:VTIMEZONE
TZID:Australia/Melbourne
X-LIC-LOCATION:Australia/Melbourne
BEGIN:STANDARD
DTSTART:20210404T030000
TZOFFSETFROM:+1100
TZOFFSETTO:+1000
RDATE:20220403T030000
TZNAME:AEST
END:STANDARD
BEGIN:DAYLIGHT
DTSTART:20201004T020000
TZOFFSETFROM:+1000
TZOFFSETTO:+1100
RDATE:20211003T020000
TZNAME:AEDT
END:DAYLIGHT
END:VTIMEZONE
BEGIN:VEVENT
UID:ai1ec-577@ch.cgci.org.au
DTSTAMP:20210227T120412Z
CATEGORIES:
CONTACT:Paul\; 0409 921 122\; enquiry@cgci.org.au\; http://ch.cgci.org.au/
DESCRIPTION:
DTSTART;TZID=Australia/Melbourne:20180512T140000
DTEND;TZID=Australia/Melbourne:20180512T153000
GEO:-37.826015;+145.117611
LOCATION:Aqualink Box Hill @ 31 Surrey Dr\, Box Hill VIC 3128\, Australia
SEQUENCE:0
SUMMARY:泡泡足球同乐日·室内场
URL:http://ch.cgci.org.au/event/%e6%b3%a1%e6%b3%a1%e8%b6%b3%e7%90%83%e5%90%
 8c%e4%b9%90%e6%97%a5%c2%b7%e5%ae%a4%e5%86%85%e5%9c%ba/
X-COST-TYPE:free
END:VEVENT
END:VCALENDAR
