BEGIN:VCALENDAR
VERSION:2.0
PRODID:-//203.170.81.33//NONSGML kigkonsult.se iCalcreator 2.24.2//
CALSCALE:GREGORIAN
METHOD:PUBLISH
X-WR-CALNAME:維省華人賭博關懷協會
X-WR-CALDESC:Chinese Gambling Concern Inc.
X-FROM-URL:http://ch.cgci.org.au
X-WR-TIMEZONE:Australia/Melbourne
BEGIN:VTIMEZONE
TZID:Australia/Melbourne
X-LIC-LOCATION:Australia/Melbourne
BEGIN:STANDARD
DTSTART:20210404T030000
TZOFFSETFROM:+1100
TZOFFSETTO:+1000
RDATE:20220403T030000
TZNAME:AEST
END:STANDARD
BEGIN:DAYLIGHT
DTSTART:20201004T020000
TZOFFSETFROM:+1000
TZOFFSETTO:+1100
RDATE:20211003T020000
TZNAME:AEDT
END:DAYLIGHT
END:VTIMEZONE
BEGIN:VEVENT
UID:ai1ec-561@ch.cgci.org.au
DTSTAMP:20210227T120323Z
CATEGORIES:
CONTACT:Paul\; 0409 921 122
DESCRIPTION:
DTSTART;TZID=Australia/Melbourne:20180414T140000
DTEND;TZID=Australia/Melbourne:20180414T160000
GEO:-37.819236;+145.126565
LOCATION:Boxhill Town Hall @ 1022 Whitehorse Rd\, Box Hill VIC 3128澳大利亚
SEQUENCE:0
SUMMARY:海南鸡饭
URL:http://ch.cgci.org.au/event/hainanjifan/
X-COST-TYPE:free
END:VEVENT
END:VCALENDAR
